BEGIN:VCALENDAR
VERSION:2.0
PRODID:-//DC Villages - ECPv6.10.2//NONSGML v1.0//EN
CALSCALE:GREGORIAN
METHOD:PUBLISH
X-ORIGINAL-URL:https://dcvillages.org
X-WR-CALDESC:Events for DC Villages
REFRESH-INTERVAL;VALUE=DURATION:PT1H
X-Robots-Tag:noindex
X-PUBLISHED-TTL:PT1H
BEGIN:VTIMEZONE
TZID:America/New_York
BEGIN:DAYLIGHT
TZOFFSETFROM:-0500
TZOFFSETTO:-0400
TZNAME:EDT
DTSTART:20260308T070000
END:DAYLIGHT
BEGIN:STANDARD
TZOFFSETFROM:-0400
TZOFFSETTO:-0500
TZNAME:EST
DTSTART:20261101T060000
END:STANDARD
END:VTIMEZONE
BEGIN:VEVENT
DTSTART;TZID=America/New_York:20260319T100000
DTEND;TZID=America/New_York:20260319T150000
DTSTAMP:20260425T125021
CREATED:20260317T175543Z
LAST-MODIFIED:20260317T175543Z
UID:681-1773914400-1773932400@dcvillages.org
SUMMARY:DC Coalition on Long Term Care 2026 Advocacy Day
DESCRIPTION:Join the DC Coalition on Long Term Care and 1199SEIU as we meet with DC Councilmembers and staff! Add your voice to our 2026 priorities and budget goals!
URL:https://dcvillages.org/event/dc-coalition-on-long-term-care-2026-advocacy-day/
LOCATION:John A. Wilson Building\, 1350 Pennsylvania Avenue\, NW\, Washington\, DC\, 20004\, United States
ATTACH;FMTTYPE=image/png:https://dcvillages.org/wp-content/uploads/2026/03/dccltc-advocacy-day.png
ORGANIZER;CN="DC Coalition on Long Term Care":MAILTO:ltccoalition@homecarepartners.org
END:VEVENT
END:VCALENDAR