BEGIN:VCALENDAR
VERSION:2.0
PRODID:-//DC Villages - ECPv6.10.2//NONSGML v1.0//EN
CALSCALE:GREGORIAN
METHOD:PUBLISH
X-ORIGINAL-URL:https://dcvillages.org
X-WR-CALDESC:Events for DC Villages
REFRESH-INTERVAL;VALUE=DURATION:PT1H
X-Robots-Tag:noindex
X-PUBLISHED-TTL:PT1H
BEGIN:VTIMEZONE
TZID:America/New_York
BEGIN:DAYLIGHT
TZOFFSETFROM:-0500
TZOFFSETTO:-0400
TZNAME:EDT
DTSTART:20250309T070000
END:DAYLIGHT
BEGIN:STANDARD
TZOFFSETFROM:-0400
TZOFFSETTO:-0500
TZNAME:EST
DTSTART:20251102T060000
END:STANDARD
END:VTIMEZONE
BEGIN:VEVENT
DTSTART;TZID=America/New_York:20250416T130000
DTEND;TZID=America/New_York:20250416T143000
DTSTAMP:20260424T051804
CREATED:20250408T125109Z
LAST-MODIFIED:20250408T125109Z
UID:453-1744808400-1744813800@dcvillages.org
SUMMARY:End-of-Life Medical Care Planning Workshop
DESCRIPTION:Join Palisades Village for a free workshop on end-of-life medical care planning. Many people don’t realize that if no plans are in place\, the medical community will default to keeping them alive as long as possible—a choice some may prefer. However\, everyone has the right to make informed decisions about their care\, including options like Allow Natural Death\, Do Not Resuscitate (DNR) orders\, and limits on life-extending treatments\, especially in cases of dementia or terminal illness. \nIn this workshop\, we’ll explore essential Advance Directives\, such as Living Wills and Powers of Attorney for Health Care\, which every adult should have. We’ll also discuss medical orders for those nearing the end of life\, including Physician Orders for Life-Sustaining Treatment (POLST). Additional topics include specialized directives for individuals with dementia or those in the LGBTQ+ community\, as well as Washington\, DC’s legislation on Medical Aid in Dying. \nIf you’re ready\, you’ll also have the opportunity to prepare and witness documents to ensure your wishes are clearly communicated to both your loved ones and the medical community. \nThis workshop will be led by Kye Briesath\, Life Journey Coach. \nRegister here: https://palisades.helpfulvillage.com/events/2720
URL:https://dcvillages.org/event/end-of-life-medical-care-planning-workshop/
LOCATION:Palisades HUB\, 5200 Cathedral Ave NW\, Washington\, DC\, 20016\, United States
CATEGORIES:Palisades Village
ATTACH;FMTTYPE=image/jpeg:https://dcvillages.org/wp-content/uploads/2025/04/planning-freepik-52975332-scaled.jpg
END:VEVENT
END:VCALENDAR