BEGIN:VCALENDAR
VERSION:2.0
PRODID:-//DC Villages - ECPv6.10.2//NONSGML v1.0//EN
CALSCALE:GREGORIAN
METHOD:PUBLISH
X-ORIGINAL-URL:https://dcvillages.org
X-WR-CALDESC:Events for DC Villages
REFRESH-INTERVAL;VALUE=DURATION:PT1H
X-Robots-Tag:noindex
X-PUBLISHED-TTL:PT1H
BEGIN:VTIMEZONE
TZID:America/New_York
BEGIN:DAYLIGHT
TZOFFSETFROM:-0500
TZOFFSETTO:-0400
TZNAME:EDT
DTSTART:20260308T070000
END:DAYLIGHT
BEGIN:STANDARD
TZOFFSETFROM:-0400
TZOFFSETTO:-0500
TZNAME:EST
DTSTART:20261101T060000
END:STANDARD
END:VTIMEZONE
BEGIN:VEVENT
DTSTART;TZID=America/New_York:20260205T130000
DTEND;TZID=America/New_York:20260205T140000
DTSTAMP:20260425T214819
CREATED:20260202T221715Z
LAST-MODIFIED:20260202T221715Z
UID:638-1770296400-1770300000@dcvillages.org
SUMMARY:DC Villages Advocacy & Lobbying Workshop
DESCRIPTION:DC Villages Collaborative (DCVC) is hosting its second informative and interactive Advocacy Workshop designed to equip Villages and aging advocates with the tools\, confidence\, and shared language needed to influence policy at a critical moment for aging in the District. \nAs DC prepares for Department of Aging and Community Living (DACL) budget performance hearings on February 19th\, 2026\, decisions are being made that will directly affect the sustainability of Villages and the ability of older adults to age safely and with dignity and joy. These hearings are a key opportunity for Villages to show up – prepared\, aligned\, and powerful. \n\nWhy This Workshop Matters\nDC’s legislative and budget decisions in the coming year will shape the future of aging in place\, impacting DCVC’s three advocacy priorities 1) direct-care workforce 2) senior housing affordability\, and 3) nutrition and food access. \nVillages are trusted community voices with lived experience and deep neighborhood connections. This workshop ensures we are ready to: \n\nSpeak clearly and confidently to decision-makers\nAlign our messaging across Villages\nElevate the real experiences of older adults\nInfluence outcomes at DACL budget performance hearings and beyond\n\nOur unified voice has never been more urgent or more needed! \n\nWho Should Attend\nThis workshop is open to everyone in the DCVC community – not just advocacy committee members. \nYou should attend if you are a: \n\nVillage leader or board member\nStaff person or volunteer\nEngaged Village member\nPartner invested in aging equity in DC\n\nIf you care about strengthening Villages and advancing equity for older adults\, this session is for you! If you cannot attend in person\, the session will be recorded and supporting materials will be distributed via email following the meeting. \n\nWhat You’ll Learn\nParticipants will gain practical\, actionable skills to support advocacy efforts tied directly to the DACL budget process and broader policy engagement\, including: \n\nHow to advocate effectively with DC Council\, DACL\, city agencies\, funders\, community allies\, and private-sector partners\nClear\, consistent messaging around DCVC’s three advocacy priorities:\n\nWorkforce\nHousing\nFood access\n\n\nHow to prepare for and participate in budget performance hearings\nPractical steps for engaging elected officials before\, during\, and after hearings\nHow to mobilize your Village community to show up and speak out\nReal-world examples and hands-on practice in testimony\, storytelling\, and strategic communication
URL:https://dcvillages.org/event/dc-villages-advocacy-lobbying-workshop/
LOCATION:Virtual Event
CATEGORIES:DC Villages
ATTACH;FMTTYPE=image/png:https://dcvillages.org/wp-content/uploads/2026/02/dcvc-advocacy-workshop-2026-02.png
END:VEVENT
BEGIN:VEVENT
DTSTART;TZID=America/New_York:20260218T190000
DTEND;TZID=America/New_York:20260218T203000
DTSTAMP:20260425T214819
CREATED:20260127T145012Z
LAST-MODIFIED:20260127T145012Z
UID:636-1771441200-1771446600@dcvillages.org
SUMMARY:Getting Ready to Use Ranked Choice Voting
DESCRIPTION:Beginning with the June 2026 DC Primary Elections\, voters will use Ranked Choice Voting (RCV) in Primary and General Elections. With RCV\, voters can rank candidates in order of preference instead of choosing just one candidate per office—giving voters a new opportunity to shape election outcomes. This session will help you feel confident\, informed\, and ready to vote. East Rock Creek Village volunteer leader and League of Women Voters DC trustee Ann Castiglione-Cataldo will lead the session.
URL:https://dcvillages.org/event/getting-ready-to-use-ranked-choice-voting/
LOCATION:Virtual Event
CATEGORIES:East Rock Creek Village
ATTACH;FMTTYPE=image/jpeg:https://dcvillages.org/wp-content/uploads/2026/01/ranked-choice-ballot.jpg
ORGANIZER;CN="East Rock Creek Village":MAILTO:info@eastrockcreekvillage.org
END:VEVENT
BEGIN:VEVENT
DTSTART;TZID=America/New_York:20260219T103000
DTEND;TZID=America/New_York:20260219T123000
DTSTAMP:20260425T214819
CREATED:20260210T191611Z
LAST-MODIFIED:20260210T191733Z
UID:643-1771497000-1771504200@dcvillages.org
SUMMARY:Senior Cinema Thursday
DESCRIPTION:Senior Cinema Thursday is a monthly event where The Avalon screens a current feature at a special discounted price for seniors held every third Thursday at 10:30am. \nWe invite senior communities and organizations to take advantage of the special $6 ticket price to bring groups to this program. The Avalon Theatre is wheelchair accessible and provides assisted listening devices to guests with hearing and visual impairments. All films in this program are shown with open captions. \nThe film this month is A Private Life starring Jodie Foster in her first French-language role. “The renowned psychiatrist Lilian Steiner mounts a private investigation into the death of one of her patients\, whom she is convinced has been murdered.” \nYou can purchase tickets at the door or online ahead of the show.
URL:https://dcvillages.org/event/senior-cinema-thursday/
LOCATION:The Avalon\, 5612 Connecticut Ave NW\, Washington\, DC\, 20015\, United States
CATEGORIES:Community Events,Foggy Bottom West End Village
ATTACH;FMTTYPE=image/png:https://dcvillages.org/wp-content/uploads/2026/02/avalon-senior-cinema-thursday.png
ORGANIZER;CN="Foggy Bottom West End Village":MAILTO:info@fbwevillage.org
END:VEVENT
BEGIN:VEVENT
DTSTART;TZID=America/New_York:20260226T130000
DTEND;TZID=America/New_York:20260226T143000
DTSTAMP:20260425T214819
CREATED:20260213T135458Z
LAST-MODIFIED:20260213T140417Z
UID:655-1772110800-1772116200@dcvillages.org
SUMMARY:Tour of the Ronald Reagan Building
DESCRIPTION:The Ronald Reagan Building and International Trade Center is the second largest federal building after the Pentagon. At the time it was built\, it was the most expensive federal building ever constructed. The building itself covers 11 acres with a floor area of over 3 million square feet! \nJoin us for a tour of the public spaces in the Ronald Reagan Building and a discussion of the history of the design and construction of the project. The tour will be led by NNV Board member\, Bill Willis\, along with colleagues Jack Moyer from the design team and Beth Gannon who is currently preparing a history of the Reagan Building. \nThe tour will last approximately 90 minutes. Attendees will be on their feet for most of the 90 minute tour that includes walking and standing. Please consider your personal mobility and the rigor of the trip before signing up. \nGetting there: \n\nParking: The Reagan Building has a public parking garage accessible from 13½ Street and 14th Street which is $22 for up to 2 hours. More information about parking is available here.\nMetro: The Federal Triangle Metro station is located on-site and is connected to the building by covered passageway. The Metro Center Metro Station (red line) is located just two blocks away.\n\nAccessibility: The Reagan Building is accessible. \nPlease note: As this is a federal building\, all visitors will be required to go through a security checkpoint. Click here for a list of prohibited items. \nAttendance: If you have signed up to attend and find you are no longer available\, please email or call the office (202-935-6060) to let us know so we can offer your space to another person. \nBill Willis joined the NNV Board in 2025. He is a retired architect who practiced in Washington\, DC for 45 years. He initially worked with Skidmore\, Owings & Merrill and later was a founding partner of his own architectural practice. He then served on the developer’s team for the Ronald Reagan Building and later was a consultant to the Federal Government for the ATF Headquarters and the Department of Homeland Security Headquarters at the St. Elizabeths West Campus. \nElizabeth Gannon is a commercial real estate professional whose career spans management roles in large-scale national and international projects and ESG/corporate responsibility.  She held senior management roles in the development of over $1 billion of office\, mixed-use\, and infrastructure space\, including the Ronald Reagan Building and International Trade Center in Washington\, DC. \nJack Moyer is a highly experienced architect and senior project manager with a strong background in design team management\, delivery\, technical production\, and construction phase services for major building projects\, many of them for the federal government. He has notable skills in coordinating the work of SBA and its consultants with those of diverse\, multi-party stakeholder teams. His 45+ years of experience have encompassed both renovation and new construction of projects up to several million square feet each. He is familiar with governmental standards\, metric design requirements\, and electronic documentation for complex projects.
URL:https://dcvillages.org/event/tour-of-the-ronald-reagan-building/
LOCATION:Ronald Reagan Building\, 1300 Pennsylvania Ave NW\, Washington\, DC\, 20004\, United States
CATEGORIES:Northwest Neighbors Village
ATTACH;FMTTYPE=image/png:https://dcvillages.org/wp-content/uploads/2026/02/reagan-building.png
ORGANIZER;CN="Northwest Neighbors Vilage":MAILTO:info@nnvdc.org
END:VEVENT
BEGIN:VEVENT
DTSTART;TZID=America/New_York:20260226T140000
DTEND;TZID=America/New_York:20260226T160000
DTSTAMP:20260425T214819
CREATED:20260210T192334Z
LAST-MODIFIED:20260210T192334Z
UID:647-1772114400-1772121600@dcvillages.org
SUMMARY:Art in the Atrium
DESCRIPTION:The Foggy Bottom West End Village is excited to once again present “Art in the Atrium\,” an art exhibit featuring works by FBWEV members. It will be from 2 to 4 p.m. on Thursday\, February 26\, 2026\, in the Atrium of St. Paul’s Parish. The exhibit will give you an opportunity to meet the artists and discuss their work. And\, of course\, there will be light refreshments. We hope you will join us and bring your friends. The public is welcome to attend.
URL:https://dcvillages.org/event/art-in-the-atrium/
LOCATION:St. Paul’s Parish Church\, 2430 K Street NW\, Washington\, DC\, 20037\, United States
CATEGORIES:Foggy Bottom West End Village
ATTACH;FMTTYPE=image/jpeg:https://dcvillages.org/wp-content/uploads/2026/02/art-in-atrium.jpg
ORGANIZER;CN="Foggy Bottom West End Village":MAILTO:info@fbwevillage.org
END:VEVENT
END:VCALENDAR