BEGIN:VCALENDAR
VERSION:2.0
PRODID:-//DC Villages - ECPv6.10.2//NONSGML v1.0//EN
CALSCALE:GREGORIAN
METHOD:PUBLISH
X-WR-CALNAME:DC Villages
X-ORIGINAL-URL:https://dcvillages.org
X-WR-CALDESC:Events for DC Villages
REFRESH-INTERVAL;VALUE=DURATION:PT1H
X-Robots-Tag:noindex
X-PUBLISHED-TTL:PT1H
BEGIN:VTIMEZONE
TZID:America/New_York
BEGIN:DAYLIGHT
TZOFFSETFROM:-0500
TZOFFSETTO:-0400
TZNAME:EDT
DTSTART:20260308T070000
END:DAYLIGHT
BEGIN:STANDARD
TZOFFSETFROM:-0400
TZOFFSETTO:-0500
TZNAME:EST
DTSTART:20261101T060000
END:STANDARD
END:VTIMEZONE
BEGIN:VEVENT
DTSTART;TZID=America/New_York:20260218T190000
DTEND;TZID=America/New_York:20260218T203000
DTSTAMP:20260424T055626
CREATED:20260127T145012Z
LAST-MODIFIED:20260127T145012Z
UID:636-1771441200-1771446600@dcvillages.org
SUMMARY:Getting Ready to Use Ranked Choice Voting
DESCRIPTION:Beginning with the June 2026 DC Primary Elections\, voters will use Ranked Choice Voting (RCV) in Primary and General Elections. With RCV\, voters can rank candidates in order of preference instead of choosing just one candidate per office—giving voters a new opportunity to shape election outcomes. This session will help you feel confident\, informed\, and ready to vote. East Rock Creek Village volunteer leader and League of Women Voters DC trustee Ann Castiglione-Cataldo will lead the session.
URL:https://dcvillages.org/event/getting-ready-to-use-ranked-choice-voting/
LOCATION:Virtual Event
CATEGORIES:East Rock Creek Village
ATTACH;FMTTYPE=image/jpeg:https://dcvillages.org/wp-content/uploads/2026/01/ranked-choice-ballot.jpg
ORGANIZER;CN="East Rock Creek Village":MAILTO:info@eastrockcreekvillage.org
END:VEVENT
END:VCALENDAR