BEGIN:VCALENDAR
VERSION:2.0
PRODID:-//DC Villages - ECPv6.10.2//NONSGML v1.0//EN
CALSCALE:GREGORIAN
METHOD:PUBLISH
X-ORIGINAL-URL:https://dcvillages.org
X-WR-CALDESC:Events for DC Villages
REFRESH-INTERVAL;VALUE=DURATION:PT1H
X-Robots-Tag:noindex
X-PUBLISHED-TTL:PT1H
BEGIN:VTIMEZONE
TZID:America/New_York
BEGIN:DAYLIGHT
TZOFFSETFROM:-0500
TZOFFSETTO:-0400
TZNAME:EDT
DTSTART:20260308T070000
END:DAYLIGHT
BEGIN:STANDARD
TZOFFSETFROM:-0400
TZOFFSETTO:-0500
TZNAME:EST
DTSTART:20261101T060000
END:STANDARD
END:VTIMEZONE
BEGIN:VEVENT
DTSTART;TZID=America/New_York:20260306T130000
DTEND;TZID=America/New_York:20260306T143000
DTSTAMP:20260425T122239
CREATED:20260210T193032Z
LAST-MODIFIED:20260210T193032Z
UID:652-1772802000-1772807400@dcvillages.org
SUMMARY:Fall Recovery and How to Decrease Your Risk of Falls
DESCRIPTION:Join George Washington University Hospital and Safe at Home for this informative course on how to get up from a fall if it happens.  The panel includes medical professionals who will discuss ways to decrease your risk of falls\, how to make a fall recovery plan\, and what to expect if you do have to go to the hospital after a fall.
URL:https://dcvillages.org/event/fall-recovery-and-how-to-decrease-your-risk-of-falls/
LOCATION:Virtual Event
CATEGORIES:Community Events
ATTACH;FMTTYPE=image/png:https://dcvillages.org/wp-content/uploads/2026/02/fall-recovery-march-2026.png
END:VEVENT
END:VCALENDAR